BEGIN:VCALENDAR
VERSION:2.0
PRODID:-//wp-events-plugin.com//7.2.3.1//EN
BEGIN:VEVENT
UID:5@prs-mesrs.gov.mr
DTSTART:20230225T110000Z
DTEND:20230225T130000Z
DTSTAMP:20230225T094801Z
URL:https://prs-mesrs.gov.mr/events/reunion-avec-drsi/
SUMMARY:Réunion avec DRSI
DESCRIPTION:Réunion sur la portail de la recherche scientifique
LOCATION:Sahel Services\, Tevragh zeina\, Nouakchott\, Mauritanie\, Maurita
 nie
X-APPLE-STRUCTURED-LOCATION;VALUE=URI;X-ADDRESS=Tevragh zeina\, Nouakchott\
 , Mauritanie\, Mauritanie;X-APPLE-RADIUS=100;X-TITLE=Sahel Services:geo:0,
 0
END:VEVENT
END:VCALENDAR